BEGIN:VCALENDAR
VERSION:2.0
PRODID:icalendar-ruby
CALSCALE:GREGORIAN
METHOD:PUBLISH
BEGIN:VEVENT
DTSTAMP:20260425T120818Z
UID:9-385749@waikoloalutheran.tithelysetup2.com
DTSTART:20260812T020000Z
DTEND:20260812T033000Z
CLASS:PUBLIC
CREATED:20260414T145541
DESCRIPTION:4:00 pm – 5:30 pm every Tuesday Contact Pastor Jeff for more 
 details @ pastorjmueller@gmail.com
LAST-MODIFIED:20260414T145541
LOCATION:Zoom
SUMMARY:ONLINE Men’s Bible Study Small Group
URL;VALUE=URI:https://waikoloalutheran.tithelysetup2.com/events/online-men-
 s-bible-study-small-group/2026-08-11
ATTACH;FILENAME=Online-Bible-Study.png;FMTTYPE=image/png:https://dq5pwpg1q8
 ru0.cloudfront.net/2026/04/15/00/55/40/f690ed53-af44-4f7c-b632-d6696cb7428
 f/Online-Bible-Study.png
END:VEVENT
END:VCALENDAR
