BEGIN:VCALENDAR
VERSION:2.0
PRODID:icalendar-ruby
CALSCALE:GREGORIAN
METHOD:PUBLISH
BEGIN:VEVENT
DTSTAMP:20260424T115036Z
UID:8-386043@waikoloalutheran.tithelysetup2.com
DTSTART:20260526T020000Z
DTEND:20260526T033000Z
CLASS:PUBLIC
CREATED:20260414T150423
DESCRIPTION:4:00 p.m. – 5:30 p.m. every Monday Contact Lynda Mueller @ mu
 ellerlynda@gmail.com for more details.
LAST-MODIFIED:20260414T150423
LOCATION:Zoom
SUMMARY:ONLINE Women’s Bible Study Small Group
URL;VALUE=URI:https://waikoloalutheran.tithelysetup2.com/events/online-wome
 n-s-bible-study-small-group/2026-05-25
ATTACH;FILENAME=Online-Bible-Study.png;FMTTYPE=image/png:https://dq5pwpg1q8
 ru0.cloudfront.net/2026/04/15/00/53/45/5f1a682b-467d-4ee0-a0f4-9b685be67b4
 3/Online-Bible-Study.png
END:VEVENT
END:VCALENDAR
