BEGIN:VCALENDAR
VERSION:2.0
PRODID:icalendar-ruby
CALSCALE:GREGORIAN
METHOD:PUBLISH
BEGIN:VEVENT
DTSTAMP:20260424T083925Z
UID:2-386013@waikoloalutheran.tithelysetup2.com
DTSTART:20260510T190000Z
DTEND:20260510T200000Z
CLASS:PUBLIC
CREATED:20260414T150134
DESCRIPTION:Sunday Morning Adult Bible Study 9:00 a.m. every Sunday morning
 Contact Pastor Jeff for more details @ pastorjmueller@gmail.com We are cur
 rently holding a marvelous Bible study using powerful video and narration 
 coupled with small group discussion questions and Scripture. It is a treme
 ndous discipleship tool for 21st century followers of Christ. \n 
LAST-MODIFIED:20260414T150134
LOCATION: 68-1792 Melia Street Waikoloa Village\, HI 96738
SUMMARY:Sunday Bible Study
URL;VALUE=URI:https://waikoloalutheran.tithelysetup2.com/events/sunday-bibl
 e-study/2026-05-10
ATTACH;FILENAME=Adult--Bible-Study.png;FMTTYPE=image/png:https://dq5pwpg1q8
 ru0.cloudfront.net/2026/04/15/01/01/33/d7808ede-b702-4c5f-a454-7111896ca0a
 b/Adult--Bible-Study.png
END:VEVENT
END:VCALENDAR
