BEGIN:VCALENDAR
VERSION:2.0
PRODID:icalendar-ruby
CALSCALE:GREGORIAN
METHOD:PUBLISH
BEGIN:VEVENT
DTSTAMP:20260425T110342Z
UID:7-385247@waikoloalutheran.tithelysetup2.com
DTSTART:20260809T200000Z
DTEND:20260809T210000Z
CLASS:PUBLIC
CREATED:20260414T142956
DESCRIPTION:We worship every Sunday at 10 a.m. in the Community Room which 
 is next door to Johnny’s Restaurant in the Waikoloa Village building - 6
 8-1792 Melia Street. \nOur Sunday worship services blend deep\, lasting an
 d meaningful worship traditions with an exciting\, innovative and relevant
  life message. Please join us! Holy Communion is celebrated on first and t
 hird Sundays. Everyone is welcome! 
LAST-MODIFIED:20260414T142956
LOCATION: 68-1792 Melia Street Waikoloa Village\, HI 96738
SUMMARY:Sunday Worship Service
URL;VALUE=URI:https://waikoloalutheran.tithelysetup2.com/events/sunday-wors
 hip-service--7/2026-08-09
ATTACH;FILENAME=Sunday-Worship.png;FMTTYPE=image/png:https://dq5pwpg1q8ru0.
 cloudfront.net/2026/04/15/00/29/55/28eb249b-4e5b-4d70-9be5-362c19963aae/Su
 nday-Worship.png
END:VEVENT
END:VCALENDAR
